BEGIN:VCALENDAR
VERSION:2.0
PRODID:-//Vote - ECPv6.15.20//NONSGML v1.0//EN
CALSCALE:GREGORIAN
METHOD:PUBLISH
X-ORIGINAL-URL:https://vote.desertsky.us
X-WR-CALDESC:Events for Vote
REFRESH-INTERVAL;VALUE=DURATION:PT1H
X-Robots-Tag:noindex
X-PUBLISHED-TTL:PT1H
BEGIN:VTIMEZONE
TZID:America/Phoenix
BEGIN:STANDARD
TZOFFSETFROM:-0700
TZOFFSETTO:-0700
TZNAME:MST
DTSTART:20230101T000000
END:STANDARD
END:VTIMEZONE
BEGIN:VEVENT
DTSTART;TZID=America/Phoenix:20241105T060000
DTEND;TZID=America/Phoenix:20241105T190000
DTSTAMP:20260423T100903
CREATED:20230702T212521Z
LAST-MODIFIED:20240210T001807Z
UID:982-1730786400-1730833200@vote.desertsky.us
SUMMARY:General Election Day
DESCRIPTION:
URL:https://vote.desertsky.us/event/general-election-day/
END:VEVENT
BEGIN:VEVENT
DTSTART;VALUE=DATE:20241009
DTEND;VALUE=DATE:20241102
DTSTAMP:20260423T100903
CREATED:20230702T212630Z
LAST-MODIFIED:20241103T173458Z
UID:984-1728432000-1730505599@vote.desertsky.us
SUMMARY:Early Voting Dates for General Election
DESCRIPTION:
URL:https://vote.desertsky.us/event/early-voting-dates-for-general-election/
END:VEVENT
BEGIN:VEVENT
DTSTART;TZID=America/Phoenix:20241007T080000
DTEND;TZID=America/Phoenix:20241007T235900
DTSTAMP:20260423T100903
CREATED:20230702T212412Z
LAST-MODIFIED:20240210T001027Z
UID:980-1728288000-1728345540@vote.desertsky.us
SUMMARY:Last Day to Register to Vote in the General Election
DESCRIPTION:
URL:https://vote.desertsky.us/event/last-day-to-register-to-vote-in-the-general-election/
END:VEVENT
BEGIN:VEVENT
DTSTART;TZID=America/Phoenix:20240730T060000
DTEND;TZID=America/Phoenix:20240730T190000
DTSTAMP:20260423T100903
CREATED:20230702T212216Z
LAST-MODIFIED:20240309T231827Z
UID:978-1722319200-1722366000@vote.desertsky.us
SUMMARY:Primary Election Day
DESCRIPTION:
URL:https://vote.desertsky.us/event/primary-election-day/
END:VEVENT
BEGIN:VEVENT
DTSTART;VALUE=DATE:20240703
DTEND;VALUE=DATE:20240731
DTSTAMP:20260423T100903
CREATED:20230702T212037Z
LAST-MODIFIED:20240309T194940Z
UID:976-1719964800-1722383999@vote.desertsky.us
SUMMARY:Early Voting Dates for Primary Election
DESCRIPTION:
URL:https://vote.desertsky.us/event/early-voting-dates-for-primary-election/
END:VEVENT
BEGIN:VEVENT
DTSTART;TZID=America/Phoenix:20240701T080000
DTEND;TZID=America/Phoenix:20240701T235900
DTSTAMP:20260423T100903
CREATED:20230702T211839Z
LAST-MODIFIED:20240309T194606Z
UID:974-1719820800-1719878340@vote.desertsky.us
SUMMARY:Last Day to Register for Primary Election
DESCRIPTION:
URL:https://vote.desertsky.us/event/last-day-to-register-for-primary-election/
END:VEVENT
BEGIN:VEVENT
DTSTART;TZID=America/Phoenix:20240319T060000
DTEND;TZID=America/Phoenix:20240319T190000
DTSTAMP:20260423T100903
CREATED:20230702T210642Z
LAST-MODIFIED:20240209T190820Z
UID:970-1710828000-1710874800@vote.desertsky.us
SUMMARY:Presidential Preference Election
DESCRIPTION:About the Arizona Presidential Primary Election: \nhttps://www.azcleanelections.gov/arizona-elections/march-19-2024-election
URL:https://vote.desertsky.us/event/presidential-primary-election/
END:VEVENT
BEGIN:VEVENT
DTSTART;TZID=America/Phoenix:20240220T080000
DTEND;TZID=America/Phoenix:20240220T235900
DTSTAMP:20260423T100903
CREATED:20230702T210510Z
LAST-MODIFIED:20240209T191139Z
UID:968-1708416000-1708473540@vote.desertsky.us
SUMMARY:Last Day to Register for Presidential Preference
DESCRIPTION:A presidential preference primary is a primary election in which a voter indicates a preference for a particular candidate to be a party’s nominee for the presidency.
URL:https://vote.desertsky.us/event/last-day-to-register-for-presidential-primary/
END:VEVENT
END:VCALENDAR